BEGIN:VCALENDAR
VERSION:2.0
PRODID:-//Harrisburg BIC Church - ECPv6.15.17.1//NONSGML v1.0//EN
CALSCALE:GREGORIAN
METHOD:PUBLISH
X-ORIGINAL-URL:https://harrisburgbic.org
X-WR-CALDESC:Events for Harrisburg BIC Church
REFRESH-INTERVAL;VALUE=DURATION:PT1H
X-Robots-Tag:noindex
X-PUBLISHED-TTL:PT1H
BEGIN:VTIMEZONE
TZID:America/New_York
BEGIN:DAYLIGHT
TZOFFSETFROM:-0500
TZOFFSETTO:-0400
TZNAME:EDT
DTSTART:20250309T070000
END:DAYLIGHT
BEGIN:STANDARD
TZOFFSETFROM:-0400
TZOFFSETTO:-0500
TZNAME:EST
DTSTART:20251102T060000
END:STANDARD
BEGIN:DAYLIGHT
TZOFFSETFROM:-0500
TZOFFSETTO:-0400
TZNAME:EDT
DTSTART:20260308T070000
END:DAYLIGHT
BEGIN:STANDARD
TZOFFSETFROM:-0400
TZOFFSETTO:-0500
TZNAME:EST
DTSTART:20261101T060000
END:STANDARD
BEGIN:DAYLIGHT
TZOFFSETFROM:-0500
TZOFFSETTO:-0400
TZNAME:EDT
DTSTART:20270314T070000
END:DAYLIGHT
BEGIN:STANDARD
TZOFFSETFROM:-0400
TZOFFSETTO:-0500
TZNAME:EST
DTSTART:20271107T060000
END:STANDARD
END:VTIMEZONE
BEGIN:VEVENT
DTSTART;TZID=America/New_York:20260421T190000
DTEND;TZID=America/New_York:20260421T210000
DTSTAMP:20260419T120719
CREATED:20260410T110523Z
LAST-MODIFIED:20260418T172551Z
UID:25763-1776798000-1776805200@harrisburgbic.org
SUMMARY:Knitting/Crocheting Group
DESCRIPTION:Anyone is welcome to join a small group making knitted or crocheted blankets and shawls! Come\, even if just to learn and fellowship on Tuesday\, April 21 at 7pm in the Large Youth Room.
URL:https://harrisburgbic.org/hbic-event/knitting-crocheting-group/
LOCATION:Harrisburg BIC Church\, 2217 Derry St\, Harrisburg\, PA\, 17104
CATEGORIES:Groups
ATTACH;FMTTYPE=image/jpeg:https://harrisburgbic.org/wp-content/uploads/2026/03/knittingcrochetinggroup.jpg
END:VEVENT
END:VCALENDAR